View In:
ArcGIS JavaScript
ArcGIS Online Map Viewer
ArcGIS Earth
Service Description: This data set contains imagery from the National Agriculture
Imagery Program (NAIP). NAIP acquires digital ortho imagery
during the agricultural growing seasons in the continental U.S..
A primary goal of the NAIP program is to enable availability of
ortho imagery within one year of acquisition. NAIP provides two
main products: 1 meter ground sample distance (GSD) ortho
imagery rectified to a horizontal accuracy of within +/- 3
meters of reference digital ortho quarter quads (DOQQ's) from
the National Digital Ortho Program (NDOP); and, 2 meter GSD
ortho imagery rectified to within +/- 10 meters of reference
DOQQs. The tiling format of NAIP imagery is based on a 3.75'
x 3.75' quarter quadrangle with a 300 meter buffer on all four
sides. NAIP quarter quads are formatted to the UTM coordinate
system using NAD83. NAIP imagery may contain as much as 10%
cloud cover per tile.
This file was generated by compressing NAIP quarter quadrangle
tiles that cover a county. MrSID (MG3) compression, with mosaic
option, was used. Target values for the compression ratio
are (15:1) and compression levels(9) are used.
Name: RASTER/ORTHO2006
Description: This data set contains imagery from the National Agriculture
Imagery Program (NAIP). NAIP acquires digital ortho imagery
during the agricultural growing seasons in the continental U.S..
A primary goal of the NAIP program is to enable availability of
ortho imagery within one year of acquisition. NAIP provides two
main products: 1 meter ground sample distance (GSD) ortho
imagery rectified to a horizontal accuracy of within +/- 3
meters of reference digital ortho quarter quads (DOQQ's) from
the National Digital Ortho Program (NDOP); and, 2 meter GSD
ortho imagery rectified to within +/- 10 meters of reference
DOQQs. The tiling format of NAIP imagery is based on a 3.75'
x 3.75' quarter quadrangle with a 300 meter buffer on all four
sides. NAIP quarter quads are formatted to the UTM coordinate
system using NAD83. NAIP imagery may contain as much as 10%
cloud cover per tile.
This file was generated by compressing NAIP quarter quadrangle
tiles that cover a county. MrSID (MG3) compression, with mosaic
option, was used. Target values for the compression ratio
are (15:1) and compression levels(9) are used.
Single Fused Map Cache: false
Extent:
XMin: 2347449.1890181857
YMin: 296363.2683562404
XMax: 2508013.172351519
YMax: 465286.8150229071
Spatial Reference: 103191
(6609)
LatestVCSWkid(0)
Initial Extent:
XMin: 2347449.1890181857
YMin: 296363.2683562404
XMax: 2508013.172351519
YMax: 465286.8150229071
Spatial Reference: 103191
(6609)
LatestVCSWkid(0)
Full Extent:
XMin: 2347449.1890181857
YMin: 296363.2683562404
XMax: 2508013.172351519
YMax: 465286.8150229071
Spatial Reference: 103191
(6609)
LatestVCSWkid(0)
Pixel Size X: 6.561666666666669
Pixel Size Y: 6.561666666666667
Band Count: 3
Pixel Type: U8
RasterFunction Infos: {"rasterFunctionInfos": [{
"name": "None",
"description": "",
"help": ""
}]}
Mensuration Capabilities:
Inspection Capabilities:
Has Histograms: true
Has Colormap: false
Has Multi Dimensions : false
Rendering Rule:
Min Scale: 0
Max Scale: 0
Resampling: false
Copyright Text:
Service Data Type: esriImageServiceDataTypeRGB
Min Values: 0, 0, 0
Max Values: 255, 255, 255
Mean Values: 97.31580116090099, 109.38600008262364, 96.19871620086722
Standard Deviation Values: 56.62676482517649, 56.27670101204222, 50.15883451146992
Object ID Field: OBJECTID
Fields:
-
OBJECTID
(
type: esriFieldTypeOID, alias: OBJECTID
)
-
Shape
(
type: esriFieldTypeGeometry, alias: Shape
)
-
Name
(
type: esriFieldTypeString, alias: Name, length: 200
)
-
MinPS
(
type: esriFieldTypeDouble, alias: MinPS
)
-
MaxPS
(
type: esriFieldTypeDouble, alias: MaxPS
)
-
LowPS
(
type: esriFieldTypeDouble, alias: LowPS
)
-
HighPS
(
type: esriFieldTypeDouble, alias: HighPS
)
-
Category
(
type: esriFieldTypeInteger, alias: Category
, Coded Values:
[0: Unknown]
, [1: Primary]
, [2: Overview]
, ...6 more...
)
-
Tag
(
type: esriFieldTypeString, alias: Tag, length: 100
)
-
GroupName
(
type: esriFieldTypeString, alias: GroupName, length: 100
)
-
ProductName
(
type: esriFieldTypeString, alias: ProductName, length: 100
)
-
CenterX
(
type: esriFieldTypeDouble, alias: CenterX
)
-
CenterY
(
type: esriFieldTypeDouble, alias: CenterY
)
-
ZOrder
(
type: esriFieldTypeInteger, alias: ZOrder
)
-
Shape_Length
(
type: esriFieldTypeDouble, alias: Shape_Length
)
-
Shape_Area
(
type: esriFieldTypeDouble, alias: Shape_Area
)
Default Mosaic Method: Northwest
Allowed Mosaic Methods: NorthWest,Center,LockRaster,ByAttribute,Nadir,Viewpoint,Seamline,None
SortField:
SortValue: null
Mosaic Operator: First
Default Compression Quality: 75
Default Resampling Method: Bilinear
Max Record Count: 1000
Max Image Height: 4100
Max Image Width: 15000
Max Download Image Count: 20
Max Mosaic Image Count: 20
Allow Raster Function: true
Allow Copy: true
Allow Analysis: true
Allow Compute TiePoints: false
Supports Statistics: true
Supports Advanced Queries: true
Use StandardizedQueries: true
Raster Type Infos:
Name: Raster Dataset
Description: Supports all ArcGIS Raster Datasets
Help:
Has Raster Attribute Table: false
Edit Fields Info: null
Ownership Based AccessControl For Rasters: null
Child Resources:
Info
Histograms
Statistics
Key Properties
Legend
Raster Function Infos
Supported Operations:
Export Image
Identify
Measure
Compute Histograms
Compute Statistics Histograms
Get Samples
Compute Class Statistics
Query Boundary
Compute Pixel Location
Compute Angles
Validate
Project