{
 "currentVersion": 11.5,
 "serviceDescription": "This data set contains imagery from the National Agriculture\nImagery Program (NAIP). NAIP acquires digital ortho imagery\nduring the agricultural growing seasons in the continental U.S..\nA primary goal of the NAIP program is to enable availability of\northo imagery within one year of acquisition. NAIP provides two\nmain products: 1 meter ground sample distance (GSD) ortho\nimagery rectified to a horizontal accuracy of within +/- 3\nmeters of reference digital ortho quarter quads (DOQQ's) from\nthe National Digital Ortho Program (NDOP); and, 2 meter GSD\northo imagery rectified to within +/- 10 meters of reference\nDOQQs. The tiling format of NAIP imagery is based on a 3.75'\nx 3.75' quarter quadrangle with a 300 meter buffer on all four\nsides. NAIP quarter quads are formatted to the UTM coordinate\nsystem using NAD83. NAIP imagery may contain as much as 10%\ncloud cover per tile.\nThis file was generated by compressing NAIP quarter quadrangle\ntiles that cover a county. MrSID (MG3) compression, with mosaic\noption, was used. Target values for the compression ratio\nare (15:1) and compression levels(9) are used.",
 "serviceItemId": "a9781bb753b24bdebf1c8cb5dce00b77",
 "name": "RASTER/ORTHO2006",
 "description": "This data set contains imagery from the National Agriculture\nImagery Program (NAIP). NAIP acquires digital ortho imagery\nduring the agricultural growing seasons in the continental U.S..\nA primary goal of the NAIP program is to enable availability of\northo imagery within one year of acquisition. NAIP provides two\nmain products: 1 meter ground sample distance (GSD) ortho\nimagery rectified to a horizontal accuracy of within +/- 3\nmeters of reference digital ortho quarter quads (DOQQ's) from\nthe National Digital Ortho Program (NDOP); and, 2 meter GSD\northo imagery rectified to within +/- 10 meters of reference\nDOQQs. The tiling format of NAIP imagery is based on a 3.75'\nx 3.75' quarter quadrangle with a 300 meter buffer on all four\nsides. NAIP quarter quads are formatted to the UTM coordinate\nsystem using NAD83. NAIP imagery may contain as much as 10%\ncloud cover per tile.\nThis file was generated by compressing NAIP quarter quadrangle\ntiles that cover a county. MrSID (MG3) compression, with mosaic\noption, was used. Target values for the compression ratio\nare (15:1) and compression levels(9) are used.",
 "extent": {
  "xmin": 2347449.1890181857,
  "ymin": 296363.2683562404,
  "xmax": 2508013.172351519,
  "ymax": 465286.8150229071,
  "spatialReference": {
   "wkid": 103191,
   "latestWkid": 6609
  }
 },
 "initialExtent": {
  "xmin": 2347449.1890181857,
  "ymin": 296363.2683562404,
  "xmax": 2508013.172351519,
  "ymax": 465286.8150229071,
  "spatialReference": {
   "wkid": 103191,
   "latestWkid": 6609
  }
 },
 "fullExtent": {
  "xmin": 2347449.1890181857,
  "ymin": 296363.2683562404,
  "xmax": 2508013.172351519,
  "ymax": 465286.8150229071,
  "spatialReference": {
   "wkid": 103191,
   "latestWkid": 6609
  }
 },
 "sortableFields": "",
 "bandCount": 3,
 "pixelType": "U8",
 "minValues": [
  0,
  0,
  0
 ],
 "maxValues": [
  255,
  255,
  255
 ],
 "meanValues": [
  97.31580116090099,
  109.38600008262364,
  96.19871620086722
 ],
 "stdvValues": [
  56.62676482517649,
  56.27670101204222,
  50.15883451146992
 ],
 "serviceProperties": "NorthWest<\/MosaicMethod>First<\/MosaicOperator>true<\/SortAscending><\/LockImageID>Name<\/TileOrderField>0<\/TileOrderBase>600.000000<\/AvgImageSpacingX>300.000000<\/AvgImageSpacingY>0.0<\/ViewPointX>0.0<\/ViewPointY>0.0<\/ViewPointDefShiftX>0.0<\/ViewPointDefShiftY>None<\/CompressionMethod>75<\/CompressionQuality>0.010000<\/CompressionTolerance>Bilinear<\/SamplingMethod><\/ImageServiceProperties><\/ImageServer>",
 "allowedFields": "Name,MinPS,MaxPS,LowPS,HighPS,Tag,GroupName,ProductName,CenterX,CenterY,ZOrder,Shape_Length,Shape_Area",
 "hasMultidimensions": false,
 "pixelSizeX": 6.561666666666669,
 "pixelSizeY": 6.561666666666667,
 "meanPixelSize": 2.000000000000001,
 "datasetFormat": "AMD",
 "uncompressedSize": 1889867040,
 "blockWidth": 2048,
 "blockHeight": 256,
 "compressionType": "None",
 "bandNames": [
  "Band_1",
  "Band_2",
  "Band_3"
 ],
 "allowCopy": true,
 "allowAnalysis": true,
 "itemAccess": false,
 "inspectionCapabilities": "",
 "minPixelSize": 0,
 "maxPixelSize": 0,
 "copyrightText": "",
 "serviceDataType": "esriImageServiceDataTypeRGB",
 "serviceSourceType": "esriImageServiceSourceTypeMosaicDataset",
 "objectIdField": "OBJECTID",
 "fields": [
  {
   "name": "OBJECTID",
   "type": "esriFieldTypeOID",
   "alias": "OBJECTID",
   "domain": null
  },
  {
   "name": "Shape",
   "type": "esriFieldTypeGeometry",
   "alias": "Shape",
   "domain": null
  },
  {
   "name": "Name",
   "type": "esriFieldTypeString",
   "alias": "Name",
   "domain": null,
   "length": 200
  },
  {
   "name": "MinPS",
   "type": "esriFieldTypeDouble",
   "alias": "MinPS",
   "domain": null
  },
  {
   "name": "MaxPS",
   "type": "esriFieldTypeDouble",
   "alias": "MaxPS",
   "domain": null
  },
  {
   "name": "LowPS",
   "type": "esriFieldTypeDouble",
   "alias": "LowPS",
   "domain": null
  },
  {
   "name": "HighPS",
   "type": "esriFieldTypeDouble",
   "alias": "HighPS",
   "domain": null
  },
  {
   "name": "Category",
   "type": "esriFieldTypeInteger",
   "alias": "Category",
   "domain": {
    "type": "codedValue",
    "name": "MosaicCatalogItemCategoryDomain",
    "description": "Catalog item categories.",
    "codedValues": [
     {
      "name": "Unknown",
      "code": 0
     },
     {
      "name": "Primary",
      "code": 1
     },
     {
      "name": "Overview",
      "code": 2
     },
     {
      "name": "Unprocessed Overview",
      "code": 3
     },
     {
      "name": "Partial Overview",
      "code": 4
     },
     {
      "name": "Inactive",
      "code": 5
     },
     {
      "name": "Uploaded",
      "code": 253
     },
     {
      "name": "Incomplete",
      "code": 254
     },
     {
      "name": "Custom",
      "code": 255
     }
    ],
    "mergePolicy": "esriMPTDefaultValue",
    "splitPolicy": "esriSPTDefaultValue"
   }
  },
  {
   "name": "Tag",
   "type": "esriFieldTypeString",
   "alias": "Tag",
   "domain": null,
   "length": 100
  },
  {
   "name": "GroupName",
   "type": "esriFieldTypeString",
   "alias": "GroupName",
   "domain": null,
   "length": 100
  },
  {
   "name": "ProductName",
   "type": "esriFieldTypeString",
   "alias": "ProductName",
   "domain": null,
   "length": 100
  },
  {
   "name": "CenterX",
   "type": "esriFieldTypeDouble",
   "alias": "CenterX",
   "domain": null
  },
  {
   "name": "CenterY",
   "type": "esriFieldTypeDouble",
   "alias": "CenterY",
   "domain": null
  },
  {
   "name": "ZOrder",
   "type": "esriFieldTypeInteger",
   "alias": "ZOrder",
   "domain": null
  },
  {
   "name": "Shape_Length",
   "type": "esriFieldTypeDouble",
   "alias": "Shape_Length",
   "domain": null
  },
  {
   "name": "Shape_Area",
   "type": "esriFieldTypeDouble",
   "alias": "Shape_Area",
   "domain": null
  }
 ],
 "capabilities": "Mensuration,Image,Metadata",
 "defaultMosaicMethod": "Northwest",
 "allowedMosaicMethods": "NorthWest,Center,LockRaster,ByAttribute,Nadir,Viewpoint,Seamline,None",
 "sortField": "",
 "sortValue": null,
 "sortAscending": true,
 "mosaicOperator": "First",
 "maxDownloadSizeLimit": 2048,
 "defaultCompressionQuality": 75,
 "defaultResamplingMethod": "Bilinear",
 "maxImageHeight": 4100,
 "maxImageWidth": 15000,
 "maxRecordCount": 1000,
 "maxDownloadImageCount": 20,
 "maxMosaicImageCount": 20,
 "allowRasterFunction": true,
 "rasterFunctionInfos": [
  {
   "name": "None",
   "description": "",
   "help": ""
  }
 ],
 "rasterTypeInfos": [
  {
   "name": "Raster Dataset",
   "description": "Supports all ArcGIS Raster Datasets",
   "help": ""
  }
 ],
 "mensurationCapabilities": "",
 "hasHistograms": true,
 "hasColormap": false,
 "hasRasterAttributeTable": false,
 "minScale": 0,
 "maxScale": 0,
 "exportTilesAllowed": false,
 "supportsStatistics": true,
 "supportsAdvancedQueries": true,
 "editFieldsInfo": null,
 "ownershipBasedAccessControlForRasters": null,
 "allowComputeTiePoints": false,
 "useStandardizedQueries": true,
 "advancedQueryCapabilities": {
  "useStandardizedQueries": true,
  "supportsStatistics": true,
  "supportsOrderBy": true,
  "supportsDistinct": true,
  "supportsPagination": true
 },
 "spatialReference": {
  "wkid": 103191,
  "latestWkid": 6609
 },
 "resampling": false
}
