View In:
ArcGIS JavaScript
ArcGIS Online Map Viewer
ArcGIS Earth
Service Description: RASTER/ShadedRel2015_NAD83
Name: RASTER/ShadedRel2015_NAD83
Description:
Single Fused Map Cache: false
Extent:
XMin: 2350000.0001595616
YMin: 305963.9100051373
XMax: 2490855.0001595616
YMax: 450678.9100051373
Spatial Reference: 103191
(6609)
VCSWkid(105703)
LatestVCSWkid(6360)
Initial Extent:
XMin: 2350000.0001595616
YMin: 305963.9100051373
XMax: 2490855.0001595616
YMax: 450678.9100051373
Spatial Reference: 103191
(6609)
VCSWkid(105703)
LatestVCSWkid(6360)
Full Extent:
XMin: 2350000.0001595616
YMin: 305963.9100051373
XMax: 2490855.0001595616
YMax: 450678.9100051373
Spatial Reference: 103191
(6609)
VCSWkid(105703)
LatestVCSWkid(6360)
Pixel Size X: 5.0
Pixel Size Y: 5.0
Band Count: 1
Pixel Type: F32
RasterFunction Infos: {"rasterFunctionInfos": [{
"name": "None",
"description": "",
"help": ""
}]}
Mensuration Capabilities: Basic
Inspection Capabilities:
Has Histograms: true
Has Colormap: false
Has Multi Dimensions : false
Rendering Rule:
Min Scale: 0
Max Scale: 0
Copyright Text:
Service Data Type: esriImageServiceDataTypeGeneric
Min Values: 612.8001098632812
Max Values: 1232.9407958984375
Mean Values: 885.071306003739
Standard Deviation Values: 72.33827493150503
Object ID Field:
Fields:
None
Default Mosaic Method: Center
Allowed Mosaic Methods:
SortField:
SortValue: null
Mosaic Operator: First
Default Compression Quality: 75
Default Resampling Method: Bilinear
Max Record Count: null
Max Image Height: 4100
Max Image Width: 15000
Max Download Image Count: null
Max Mosaic Image Count: null
Allow Raster Function: true
Allow Copy: true
Allow Analysis: true
Allow Compute TiePoints: false
Supports Statistics: false
Supports Advanced Queries: false
Use StandardizedQueries: true
Raster Type Infos:
Name: Raster Dataset
Description: Supports all ArcGIS Raster Datasets
Help:
Has Raster Attribute Table: false
Edit Fields Info: null
Ownership Based AccessControl For Rasters: null
Child Resources:
Info
Histograms
Statistics
Key Properties
Legend
Raster Function Infos
Supported Operations:
Export Image
Identify
Measure
Compute Histograms
Compute Statistics Histograms
Get Samples
Compute Class Statistics
Query Boundary
Compute Pixel Location
Compute Angles
Validate
Project