View In:
ArcGIS JavaScript
ArcGIS Online Map Viewer
ArcGIS Earth
Service Description: This data set consists of color digital orthophoto files acquired in April 2007. The color files cover the entirety of Milwaukee, Ozaukee, and Waukesha Counties; the southern three survey townships of Washington County; and an approximately 20-square-mile area in the southeast corner of Dodge County in Southeastern Wisconsin. The color orthophoto files were compiled at one-inch-equals-200-feet (1" = 200') scale with a pixel resolution of twelve inches (12"). The image files are available in GeoTIFF or MrSID format. Each color GeoTIFF format file covers an area of 10,000 by 10,000 feet on the Wisconsin State Plane Coordinate System, South Zone, with zero overlap between images. There are a total of 385 GeoTIFF files in the data set with accompanying "world" (".tfw") files. The MrSID format files were prepared from mosaics of the GeoTIFF format files. Each color MrSID format file covers an area of one U.S. Public Land Survey System (USPLSS) township. The 36 MrSID format files contain imagery beyond the boundaries of the survey township and do overlap. The MrSID files have accompanying "world" (".sdw") files.
Name: RASTER/ORTHO2007
Description: This data set consists of color digital orthophoto files acquired in April 2007. The color files cover the entirety of Milwaukee, Ozaukee, and Waukesha Counties; the southern three survey townships of Washington County; and an approximately 20-square-mile area in the southeast corner of Dodge County in Southeastern Wisconsin. The color orthophoto files were compiled at one-inch-equals-200-feet (1" = 200') scale with a pixel resolution of twelve inches (12"). The image files are available in GeoTIFF or MrSID format. Each color GeoTIFF format file covers an area of 10,000 by 10,000 feet on the Wisconsin State Plane Coordinate System, South Zone, with zero overlap between images. There are a total of 385 GeoTIFF files in the data set with accompanying "world" (".tfw") files. The MrSID format files were prepared from mosaics of the GeoTIFF format files. Each color MrSID format file covers an area of one U.S. Public Land Survey System (USPLSS) township. The 36 MrSID format files contain imagery beyond the boundaries of the survey township and do overlap. The MrSID files have accompanying "world" (".sdw") files.
Single Fused Map Cache: false
Extent:
XMin: 2357954.588518691
YMin: 310168.68177335046
XMax: 2486591.588518691
YMax: 440989.68177335046
Spatial Reference: 103191
(6609)
LatestVCSWkid(0)
Initial Extent:
XMin: 2357954.588518691
YMin: 310168.68177335046
XMax: 2486591.588518691
YMax: 440989.68177335046
Spatial Reference: 103191
(6609)
LatestVCSWkid(0)
Full Extent:
XMin: 2357954.588518691
YMin: 310168.68177335046
XMax: 2486591.588518691
YMax: 440989.68177335046
Spatial Reference: 103191
(6609)
LatestVCSWkid(0)
Pixel Size X: 1.0
Pixel Size Y: 1.0
Band Count: 3
Pixel Type: U8
RasterFunction Infos: {"rasterFunctionInfos": [{
"name": "None",
"description": "",
"help": ""
}]}
Mensuration Capabilities:
Inspection Capabilities:
Has Histograms: true
Has Colormap: false
Has Multi Dimensions : false
Rendering Rule:
Min Scale: 0
Max Scale: 0
Resampling: false
Copyright Text:
Service Data Type: esriImageServiceDataTypeRGB
Min Values: 0, 0, 0
Max Values: 255, 255, 255
Mean Values: 122.97450962760534, 120.85523949464752, 112.87555740391977
Standard Deviation Values: 33.28409641814743, 27.997295850473225, 26.53522996033017
Object ID Field: OBJECTID
Fields:
-
OBJECTID
(
type: esriFieldTypeOID, alias: OBJECTID
)
-
Shape
(
type: esriFieldTypeGeometry, alias: Shape
)
-
Name
(
type: esriFieldTypeString, alias: Name, length: 200
)
-
MinPS
(
type: esriFieldTypeDouble, alias: MinPS
)
-
MaxPS
(
type: esriFieldTypeDouble, alias: MaxPS
)
-
LowPS
(
type: esriFieldTypeDouble, alias: LowPS
)
-
HighPS
(
type: esriFieldTypeDouble, alias: HighPS
)
-
Category
(
type: esriFieldTypeInteger, alias: Category
, Coded Values:
[0: Unknown]
, [1: Primary]
, [2: Overview]
, ...6 more...
)
-
Tag
(
type: esriFieldTypeString, alias: Tag, length: 100
)
-
GroupName
(
type: esriFieldTypeString, alias: GroupName, length: 100
)
-
ProductName
(
type: esriFieldTypeString, alias: ProductName, length: 100
)
-
CenterX
(
type: esriFieldTypeDouble, alias: CenterX
)
-
CenterY
(
type: esriFieldTypeDouble, alias: CenterY
)
-
ZOrder
(
type: esriFieldTypeInteger, alias: ZOrder
)
-
Shape_Length
(
type: esriFieldTypeDouble, alias: Shape_Length
)
-
Shape_Area
(
type: esriFieldTypeDouble, alias: Shape_Area
)
Default Mosaic Method: Northwest
Allowed Mosaic Methods: NorthWest,Center,LockRaster,ByAttribute,Nadir,Viewpoint,Seamline,None
SortField:
SortValue: null
Mosaic Operator: First
Default Compression Quality: 75
Default Resampling Method: Bilinear
Max Record Count: 1000
Max Image Height: 4100
Max Image Width: 15000
Max Download Image Count: 20
Max Mosaic Image Count: 20
Allow Raster Function: true
Allow Copy: true
Allow Analysis: true
Allow Compute TiePoints: false
Supports Statistics: true
Supports Advanced Queries: true
Use StandardizedQueries: true
Raster Type Infos:
Name: Raster Dataset
Description: Supports all ArcGIS Raster Datasets
Help:
Has Raster Attribute Table: false
Edit Fields Info: null
Ownership Based AccessControl For Rasters: null
Child Resources:
Info
Histograms
Statistics
Key Properties
Legend
Raster Function Infos
Supported Operations:
Export Image
Identify
Measure
Compute Histograms
Compute Statistics Histograms
Get Samples
Compute Class Statistics
Query Boundary
Compute Pixel Location
Compute Angles
Validate
Project